BEGIN:VCALENDAR
VERSION:2.0
PRODID:-//Community United Methodist Church - ECPv6.15.4//NONSGML v1.0//EN
CALSCALE:GREGORIAN
METHOD:PUBLISH
X-ORIGINAL-URL:https://cumchb.org
X-WR-CALDESC:Events for Community United Methodist Church
REFRESH-INTERVAL;VALUE=DURATION:PT1H
X-Robots-Tag:noindex
X-PUBLISHED-TTL:PT1H
BEGIN:VTIMEZONE
TZID:America/Los_Angeles
BEGIN:DAYLIGHT
TZOFFSETFROM:-0800
TZOFFSETTO:-0700
TZNAME:PDT
DTSTART:20260308T100000
END:DAYLIGHT
BEGIN:STANDARD
TZOFFSETFROM:-0700
TZOFFSETTO:-0800
TZNAME:PST
DTSTART:20261101T090000
END:STANDARD
END:VTIMEZONE
BEGIN:VEVENT
DTSTART;VALUE=DATE:20260419
DTEND;VALUE=DATE:20260426
DTSTAMP:20260422T042022
CREATED:20251221T045809Z
LAST-MODIFIED:20251221T052121Z
UID:10000488-1776556800-1777161599@cumchb.org
SUMMARY:Altadena Adult Work Team
DESCRIPTION:  \n  \n  \n  \n  \n  \nEaton Fire Recovery Mission Trip Trip Dates: April 19–25\, 2026  \nOur team will stay in dorm-style housing in Altadena while working alongside local partners to help families take important steps toward returning to their homes. Prior construction experience is helpful but not required. What matters most is a willingness to serve\,work as a team\, learn new skills\, and remain flexible. \nCome be the hands and feet of Christ to families in need—and experience fellowship\, purpose\, and joy along the way. \nWe hope to see you there! \nFor more information please contact Suzanne at Suzanne@cumchb.org.
URL:https://cumchb.org/event/altadena-adult-work-team/
LOCATION:CA
END:VEVENT
BEGIN:VEVENT
DTSTART;TZID=America/Los_Angeles:20260421T100000
DTEND;TZID=America/Los_Angeles:20260421T110000
DTSTAMP:20260422T042022
CREATED:20250923T055034Z
LAST-MODIFIED:20251202T005148Z
UID:10000108-1776765600-1776769200@cumchb.org
SUMMARY:Sister in Spirit Bible Study
DESCRIPTION:Sisters in Spirit Bible Study\nTuesdays @10:00\nRoom 5 & on Zoom\nJoin us on Tuesday mornings for Bible Study and fellowship!\nWe’ll be diving into the book of Genesis\, exploring how these ancient stories and characters still speak to us today. This is a relaxed and welcoming group—perfect for both first-time participants and those with years of Bible study experience. Bring your favorite Bible and come ready to learn\, share\, and grow together through the very first book of the Bible. \nIf you have any questions please reach out to Suzanne at church or at Suzanne@cumchb.org.
URL:https://cumchb.org/event/sister-in-spirit-bible-study/2026-04-21/
LOCATION:CA
END:VEVENT
BEGIN:VEVENT
DTSTART;TZID=America/Los_Angeles:20260422T190000
DTEND;TZID=America/Los_Angeles:20260422T200000
DTSTAMP:20260422T042022
CREATED:20260403T044335Z
LAST-MODIFIED:20260403T044335Z
UID:10000659-1776884400-1776888000@cumchb.org
SUMMARY:Wednesday Evening Study - Separation of Church and Hate
DESCRIPTION:Wednesday Evening Study – April 15 – June 3  \n7:00 in person in room 7/8 & on Zoom \nID# 839 5418 7177 \nPasscode 326959 \nThis class is lead by Brenda Weikel. Please have the first two chapters read before class. \nNEW YORK TIMES BESTSELLER * In the spirit of George Carlin and Christopher Hitchens\, the son of a former Catholic nun and a Franciscan brother delivers a deeply irreverent and biblically correct takedown of far-right Christian hatred—a book for believers\, atheists\, agnostics\, and anyone who’ll ever have to deal with a Christian nationalist.  \nFor more than two centuries\, the United States Constitution has given us the right to a society where church and state exist independently. But Christianity has been hijacked by far-right groups and politicians who seek to impose their narrow views on government\, often to justify oppressive and unequal policies. The extremists who weaponize the Bible for earthly power aren’t actually on the side of Jesus—and historically they never have been. How do we fight back against those acting—literally—in bad faith? \nComedian and broadcaster John Fugelsang finally offers the answers. In this informative\, perspective-shifting book\, Fugelsang takes readers through common fundamentalist arguments on abortion\, immigration\, LGBTQ rights\, and more—exposing their hypocrisy and inaccuracy through scripture\, common sense\, and deeply inappropriate humor. It offers practical tips on how to debate your loved one\, coworker\, or neighbor on the issues that divide us using that Bible they claim to follow. \nBut Fugelsang’s message is about more than just taking down hypocrites. It’s about fighting for the love\, mercy\, and service that are supposed to make up the heart of Christianity. Told with Fugelsang’s trademark blend of radical honesty\, comedy\, and deep political and religious knowledge\, Separation of Church and Hate is the book every American needs today. It’s a rallying cry for compassion and clarity for anyone of any faith who’s sick of religion being used as a cloaking device for hate.
URL:https://cumchb.org/event/wednesday-evening-study-separation-of-church-and-hate/2026-04-22/
LOCATION:Room 7/8\, 6652 Heil Avenue\, Huntington Beach\, CA\, 92647\, United States
END:VEVENT
END:VCALENDAR