BEGIN:VCALENDAR
VERSION:2.0
PRODID:-//Community United Methodist Church - ECPv6.15.4//NONSGML v1.0//EN
CALSCALE:GREGORIAN
METHOD:PUBLISH
X-ORIGINAL-URL:https://cumchb.org
X-WR-CALDESC:Events for Community United Methodist Church
REFRESH-INTERVAL;VALUE=DURATION:PT1H
X-Robots-Tag:noindex
X-PUBLISHED-TTL:PT1H
BEGIN:VTIMEZONE
TZID:America/Los_Angeles
BEGIN:DAYLIGHT
TZOFFSETFROM:-0800
TZOFFSETTO:-0700
TZNAME:PDT
DTSTART:20260308T100000
END:DAYLIGHT
BEGIN:STANDARD
TZOFFSETFROM:-0700
TZOFFSETTO:-0800
TZNAME:PST
DTSTART:20261101T090000
END:STANDARD
END:VTIMEZONE
BEGIN:VEVENT
DTSTART;TZID=America/Los_Angeles:20260201T111500
DTEND;TZID=America/Los_Angeles:20260201T121500
DTSTAMP:20260422T052512
CREATED:20260118T151535Z
LAST-MODIFIED:20260118T151535Z
UID:10000566-1769944500-1769948100@cumchb.org
SUMMARY:Community Connects
DESCRIPTION:Sunday\, February 1 @ 11:15 Room 5 \nGet Connected at CUMC! \nAre you looking to get better connected with the people and ministries of CUMC? Whether you’re new\, have been attending for years\, or are somewhere in between\, we invite you to join us for a relaxed and welcoming gathering to learn more about our church community and the many ministries available here. \nThis is a great opportunity to meet others\, ask questions\, and discover where you might want to get involved! \nThinking about joining the church? We’ll be welcoming new members on Sunday\, February 15  \nPlease let Suzanne (Suzanne@cumchb.org) know if you’re planning to attend and if you’ll need childcare. \nWe can’t wait to connect with you!
URL:https://cumchb.org/event/community-connects/
LOCATION:Room 5
END:VEVENT
BEGIN:VEVENT
DTSTART;TZID=America/Los_Angeles:20260203T100000
DTEND;TZID=America/Los_Angeles:20260203T110000
DTSTAMP:20260422T052512
CREATED:20250923T055034Z
LAST-MODIFIED:20251202T005148Z
UID:10000097-1770112800-1770116400@cumchb.org
SUMMARY:Sister in Spirit Bible Study
DESCRIPTION:Sisters in Spirit Bible Study\nTuesdays @10:00\nRoom 5 & on Zoom\nJoin us on Tuesday mornings for Bible Study and fellowship!\nWe’ll be diving into the book of Genesis\, exploring how these ancient stories and characters still speak to us today. This is a relaxed and welcoming group—perfect for both first-time participants and those with years of Bible study experience. Bring your favorite Bible and come ready to learn\, share\, and grow together through the very first book of the Bible. \nIf you have any questions please reach out to Suzanne at church or at Suzanne@cumchb.org.
URL:https://cumchb.org/event/sister-in-spirit-bible-study/2026-02-03/
LOCATION:CA
END:VEVENT
BEGIN:VEVENT
DTSTART;TZID=America/Los_Angeles:20260204T190000
DTEND;TZID=America/Los_Angeles:20260204T200000
DTSTAMP:20260422T052512
CREATED:20251221T045507Z
LAST-MODIFIED:20251221T045540Z
UID:10000487-1770231600-1770235200@cumchb.org
SUMMARY:Half Truths - Wednesday Evening Study
DESCRIPTION:Wednesday Evening Study \nJanuary 7 – February 4 \n7PM \nRoom 7/8 in person & on Zoom \nLed by Brenda Wiekel \n  \nThey are simple phrases. They sound Christian—like something you might find in the Bible. We’ve all heard these words. Maybe we’ve said them. They capture some element of truth\, yet they miss the point in important ways. \nJoin Adam Hamilton in this 5-week Bible study to search for the whole truth by comparing common Christian clichés with the wisdom found in Scripture. The clichés include: Everything happens for a reason. God helps those who help themselves. God won’t give you more than you can handle. God said it\, I believe it\, that settles it. Love the sinner\, hate the sin. \nPlease subscribe to our emails for the Zoom info.
URL:https://cumchb.org/event/half-truths-wednesday-evening-study/2026-02-04/
LOCATION:Zoom
END:VEVENT
END:VCALENDAR