BEGIN:VCALENDAR
VERSION:2.0
PRODID:-//Community United Methodist Church - ECPv6.15.4//NONSGML v1.0//EN
CALSCALE:GREGORIAN
METHOD:PUBLISH
X-ORIGINAL-URL:https://cumchb.org
X-WR-CALDESC:Events for Community United Methodist Church
REFRESH-INTERVAL;VALUE=DURATION:PT1H
X-Robots-Tag:noindex
X-PUBLISHED-TTL:PT1H
BEGIN:VTIMEZONE
TZID:America/Los_Angeles
BEGIN:DAYLIGHT
TZOFFSETFROM:-0800
TZOFFSETTO:-0700
TZNAME:PDT
DTSTART:20260308T100000
END:DAYLIGHT
BEGIN:STANDARD
TZOFFSETFROM:-0700
TZOFFSETTO:-0800
TZNAME:PST
DTSTART:20261101T090000
END:STANDARD
END:VTIMEZONE
BEGIN:VEVENT
DTSTART;TZID=America/Los_Angeles:20260214T160000
DTEND;TZID=America/Los_Angeles:20260214T180000
DTSTAMP:20260422T052512
CREATED:20260208T140411Z
LAST-MODIFIED:20260208T140411Z
UID:10000496-1771084800-1771092000@cumchb.org
SUMMARY:Messy Church
DESCRIPTION:February Messy Church: Love Your Neighbor\nMessy Church is Saturday\, Feb. 14th from 4:00-6:00 PM.    A religious expert asked Jesus ‘who is my neighbor’. Jesus answered the question by telling a story. Come to Messy Church to hear the story Jesus told.  As always we will end with sharing a meal together.  Please feel free to share this email with your friends\, if you think they might like to join us.  Messy Church is for everyone! Scroll down to let us know you are coming. \nRSVP Here by Noon 2/12. \n\n \nMessy Church offers a creative and welcoming way to gather\, connect\, and explore faith together. Rather than a traditional worship service\, this experience invites participants into an evening of hands-on activities\, shared stories\, joyful music\, and time around the table. Each gathering is designed to encourage curiosity\, conversation\, and meaningful connection in a relaxed\, family-friendly setting. \nAll are invited\, children\, adults\, and everyone in between\, no matter your background or faith journey. Whether you’re new to church\, returning after time away\, or looking for a different way to engage\, Messy Church is a place where you can belong\, participate\, and grow together. \nClick here for more information.
URL:https://cumchb.org/event/messy-church-3/
LOCATION:CA
CATEGORIES:Messy Church
END:VEVENT
END:VCALENDAR